BEGIN:VCALENDAR
VERSION:2.0
PRODID:-//Macaklin Social Club - ECPv6.15.11//NONSGML v1.0//EN
CALSCALE:GREGORIAN
METHOD:PUBLISH
X-ORIGINAL-URL:https://macaklin.com
X-WR-CALDESC:Događaji za Macaklin Social Club
REFRESH-INTERVAL;VALUE=DURATION:PT1H
X-Robots-Tag:noindex
X-PUBLISHED-TTL:PT1H
BEGIN:VTIMEZONE
TZID:Europe/Zagreb
BEGIN:DAYLIGHT
TZOFFSETFROM:+0100
TZOFFSETTO:+0200
TZNAME:CEST
DTSTART:20250330T010000
END:DAYLIGHT
BEGIN:STANDARD
TZOFFSETFROM:+0200
TZOFFSETTO:+0100
TZNAME:CET
DTSTART:20251026T010000
END:STANDARD
BEGIN:DAYLIGHT
TZOFFSETFROM:+0100
TZOFFSETTO:+0200
TZNAME:CEST
DTSTART:20260329T010000
END:DAYLIGHT
BEGIN:STANDARD
TZOFFSETFROM:+0200
TZOFFSETTO:+0100
TZNAME:CET
DTSTART:20261025T010000
END:STANDARD
BEGIN:DAYLIGHT
TZOFFSETFROM:+0100
TZOFFSETTO:+0200
TZNAME:CEST
DTSTART:20270328T010000
END:DAYLIGHT
BEGIN:STANDARD
TZOFFSETFROM:+0200
TZOFFSETTO:+0100
TZNAME:CET
DTSTART:20271031T010000
END:STANDARD
END:VTIMEZONE
BEGIN:VEVENT
DTSTART;TZID=Europe/Zagreb:20260430T140000
DTEND;TZID=Europe/Zagreb:20260503T220000
DTSTAMP:20260424T160353
CREATED:20250803T124531Z
LAST-MODIFIED:20260327T111350Z
UID:636-1777557600-1777845600@macaklin.com
SUMMARY:Maturalac
DESCRIPTION:Sjećaš se maturalca? Mi ga radimo ponovno — bolje.Macaklin Maturalac vodi nas u Budimpeštu za 1. maj\, bez razrednika\, bez učenja i bez ranojutarnjih razgleda. Samo dobra ekipa\, zabava\, razgledavanje i uspomene koje nećemo moći ispričati pred roditeljima. \nZa više informacija i prijavu javi nam se na Instagramu ili putem maila.
URL:https://macaklin.com/kalendar-dogadaja/maturalac/
LOCATION:Budimpešta
END:VEVENT
BEGIN:VEVENT
DTSTART;TZID=Europe/Zagreb:20260530T170000
DTEND;TZID=Europe/Zagreb:20260531T030000
DTSTAMP:20260424T160353
CREATED:20260417T120714Z
LAST-MODIFIED:20260421T211844Z
UID:2171-1780160400-1780196400@macaklin.com
SUMMARY:Second Chance Prom
DESCRIPTION:Večer za sve nas koji želimo još jednom obući odijelo ili haljinu i napraviti uspomene kako spada — u restoranu Matrix. Ovaj put bez raske! \nRezerviraj svoje mjesto putem ankete \nZamisli…\nVratiš se u vrijeme kad ti je najveći problem bila matura i ponovno proživiš najluđu srednjoškolsku noć. Ovaj put bez raske i staraca — uz još bolji provod! \nŠTO TE OČEKUJE \n\nprofesionalno fotkanje da ispraviš sve loše slike iz srednje\nneograničena hrana i cuga\nrazredni okršaji za titulu najboljeg razreda\nizbor za prom queen i king\nbančenje do ranih jutarnjih sati\n\nRASPORED VEČERI \nDa znaš kad dolaziš\, a još važnije — zašto ostaješ do kraja 👇 \n17:00 – Dolazak gostiju & fotkanje 📸 \nUlazak u večer kako spada — sređeni\, nasmijani i odmah pred objektivom. \n18:00 – Službeno otvaranje 🎤 \nKratki govor\, objašnjenje igre i početak naše “mature”. \n18:15 – Razredno slikanje & kviz 📝 \nFormiramo razrede\, rješavamo “maturu” i prijavljujemo se za igre. \n18:40 – Pauza / zagrijavanje 🍻 \nVrijeme za cugu\, upoznavanje i lagani party. \n19:15 – Prvi ples 💃🕺 \nJer svaka maturalna mora imati taj trenutak. \n20:30 – Večera u restoranu Matrix 🍽️ \nPunimo baterije za ono što slijedi. \n21:30 – Početak igara 🔔 \nKreće borba razreda za titulu najboljeg! \n\nKamen\, škare\, papir ✊✌️✋\nObaranje ruku 💪\nKockice 🎲\nEksanje 🍺\nKaraoke 🎤\n\n00:00 – Proglašenje 🏆 \nNajbolji razred + prom queen & king. \n00:20 – Party životom 🔥 \nAko si ikad htio bolju maturu — ovo je ta večer. Pridruži nam se za dobra stara vremena i nove ljude! \nPrijavi se 👈
URL:https://macaklin.com/kalendar-dogadaja/maturalna/
LOCATION:Resotran Matrix\, Slavonska avenija 1b
END:VEVENT
END:VCALENDAR